BEGIN:VCALENDAR
VERSION:2.0
PRODID:icalendar-ruby
CALSCALE:GREGORIAN
METHOD:PUBLISH
BEGIN:VEVENT
DTSTAMP:20260421T023026Z
UID:286-624850@livingrockchurch.com
DTSTART:20261008T113000Z
DTEND:20261008T123000Z
CLASS:PUBLIC
CREATED:20260420T184251
DESCRIPTION:
LAST-MODIFIED:20260420T184251
LOCATION:Alli B's Coffee Shop in NYA
SUMMARY:Men's Gathering
URL;VALUE=URI:https://livingrockchurch.com/events/mens-gathering/2026-10-08
ATTACH;FILENAME=Mens Gathering.jpg;FMTTYPE=image/jpeg:https://dq5pwpg1q8ru0
 .cloudfront.net/2025/02/05/19/38/35/c1393314-720e-4583-9eb2-637e5be42566/M
 ens%20Gathering.jpg
END:VEVENT
END:VCALENDAR
