BEGIN:VCALENDAR
VERSION:2.0
PRODID:icalendar-ruby
CALSCALE:GREGORIAN
METHOD:PUBLISH
BEGIN:VEVENT
DTSTAMP:20260422T004433Z
UID:226-626545@livingrockchurch.com
DTSTART:20261014T231000Z
DTEND:20261015T003000Z
CLASS:PUBLIC
CREATED:20260421T185554
DESCRIPTION:
LAST-MODIFIED:20260421T185554
LOCATION:LRC Church
SUMMARY:Jr High Ignite Students
URL;VALUE=URI:https://livingrockchurch.com/events/jr-high-ignite-students/2
 026-10-14
ATTACH;FILENAME=_JH Ignite Students1 (1).jpg;FMTTYPE=image/jpeg:https://dq5
 pwpg1q8ru0.cloudfront.net/2025/10/28/18/18/47/6323b951-28da-4cae-96d9-5e89
 38d4e60e/_JH%20Ignite%20Students1%20(1).jpg
END:VEVENT
END:VCALENDAR
