BEGIN:VCALENDAR
VERSION:2.0
PRODID:icalendar-ruby
CALSCALE:GREGORIAN
METHOD:PUBLISH
BEGIN:VEVENT
DTSTAMP:20260424T024048Z
UID:211-630025@livingrockchurch.com
DTSTART:20261001T003000Z
DTEND:20261001T020000Z
CLASS:PUBLIC
CREATED:20260423T202720
DESCRIPTION:Sr High Student Ministry
LAST-MODIFIED:20260423T202720
LOCATION:Living Rock Church
SUMMARY:High School Ignite Students
URL;VALUE=URI:https://livingrockchurch.com/events/high-school-ignite-studen
 ts/2026-09-30
ATTACH;FILENAME=_HS Ignite Students (1).jpg;FMTTYPE=image/jpeg:https://dq5p
 wpg1q8ru0.cloudfront.net/2025/10/28/18/19/24/a2d76aa6-abae-426d-b266-14594
 e58dda7/_HS%20Ignite%20Students%20(1).jpg
END:VEVENT
END:VCALENDAR
